BEGIN:VCALENDAR
VERSION:2.0
PRODID:-//wp-events-plugin.com//7.2.3.1//EN
TZID:Europe/Berlin
X-WR-TIMEZONE:Europe/Berlin
BEGIN:VEVENT
UID:295@k50p.de
DTSTART;TZID=Europe/Berlin;VALUE=DATE:20181013
DTEND;TZID=Europe/Berlin;VALUE=DATE:20181014
DTSTAMP:20181002T171334Z
URL:https://k50p.de/events/1675
SUMMARY:Picknick im Urwald
DESCRIPTION:Die KUNOs besuchen den Urwald im Reinhardswald im Landkreis Kas
 sel. Nähere Absprachen und Fahrgemeinschaften beim Stammtisch. Das gepla
 nte Picknick ist vom Wetter abhängig. Genaueres ist noch nicht bekannt.\
 nDer Urwald Sababurg\, auch als Urwald im Reinhardswald bekannt\, nahe der
  Sababurg im Reinhardswald im nordhessischen Landkreis Kassel ist ein unte
 r Natur- und Landschaftsschutz stehendes und aus einem Hutewald hervorgega
 ngenes Waldgebiet.\nDer Urwald Sababurg ist kein wirklicher Urwald im eige
 ntlichen Sinn\, seine Qualität erklärt sich aus der seit der Unterschutz
 stellung sich weitestgehend wild\, natürlich entwickelnden Vegetation ein
 erseits und den uralten und urigen Bäumen aus der Zeit vor dem Nachwachse
 n eines Waldes andererseits. Die Besonderheit dieses Baumbestandes liegt d
 arin\, dass jedes alte Baumindividuum für sich als Naturdenkmal schutzwü
 rdig ist. (Quelle: wikipedia.org)\n\n\n[caption id="attachment_1678" align
 ="aligncenter" width="1024"] Antranias / Pixabay[/caption]
LOCATION:Urwald Reinhardswald\, Drecktor\, Hofgeismar LK Kassel\, Deutschla
 nd
X-APPLE-STRUCTURED-LOCATION;VALUE=URI;X-ADDRESS=Drecktor\, Hofgeismar LK Ka
 ssel\, Deutschland;X-APPLE-RADIUS=100;X-TITLE=Urwald Reinhardswald:geo:0,0
END:VEVENT
BEGIN:VTIMEZONE
TZID:Europe/Berlin
X-LIC-LOCATION:Europe/Berlin
BEGIN:DAYLIGHT
DTSTART:20180325T030000
TZOFFSETFROM:+0100
TZOFFSETTO:+0200
TZNAME:CEST
END:DAYLIGHT
END:VTIMEZONE
END:VCALENDAR