BEGIN:VCALENDAR
VERSION:2.0
PRODID:-//wp-events-plugin.com//7.2.3.1//EN
TZID:Europe/Berlin
X-WR-TIMEZONE:Europe/Berlin
BEGIN:VEVENT
UID:168@k50p.de
DTSTART;TZID=Europe/Berlin:20181026T180000
DTEND;TZID=Europe/Berlin:20181026T230000
DTSTAMP:20180827T200343Z
URL:https://k50p.de/events/361
SUMMARY:Light-Night-Shopping
DESCRIPTION:Hildesheim leuchtet zum Light-Night-Shopping\nAm 26.Oktober von
  18 Uhr bis 23 Uhr erwartet die Besucher der Innenstadt ein Einkaufserlebn
 is der besonderen Art. Alle Nachtschwärmer können entspannt durch die Fu
 ßgängerzone bummeln\, in den Geschäften stöbern\, einkaufen und sich v
 on aufwendigen Lichtinstallationen verzaubern lassen.\n\n
CATEGORIES:Alle Termine &amp; Tipps
LOCATION:Fußgängerzone\, Innenstadt\, Hildesheim\, Deutschland
X-APPLE-STRUCTURED-LOCATION;VALUE=URI;X-ADDRESS=Innenstadt\, Hildesheim\, D
 eutschland;X-APPLE-RADIUS=100;X-TITLE=Fußgängerzone:geo:0,0
END:VEVENT
BEGIN:VTIMEZONE
TZID:Europe/Berlin
X-LIC-LOCATION:Europe/Berlin
BEGIN:DAYLIGHT
DTSTART:20180325T030000
TZOFFSETFROM:+0100
TZOFFSETTO:+0200
TZNAME:CEST
END:DAYLIGHT
END:VTIMEZONE
END:VCALENDAR