BEGIN:VCALENDAR
VERSION:2.0
PRODID:-//wp-events-plugin.com//7.2.3.1//EN
TZID:Europe/Berlin
X-WR-TIMEZONE:Europe/Berlin
BEGIN:VEVENT
UID:398@k50p.de
DTSTART;TZID=Europe/Berlin:20240529T170000
DTEND;TZID=Europe/Berlin:20240529T190000
DTSTAMP:20240524T131201Z
URL:https://k50p.de/events/abendspaziergang-nachtigall
SUMMARY:Abendspaziergang mit fachkundiger Natur-Führung
DESCRIPTION:Spaziergang von Himmelsthür nach Steuerwald\n\nAuf unserem ca.
  2-stündigem Rundgang von Himmelsthür nach Steuerwald und zurück gilt u
 nser Interesse der Natur\, speziell den Vögeln. Wer ein Fernglas hat\, so
 llte es unbedingt mitbringen\, denn es gibt vieles zu entdecken. Mit etwas
  Glück sehen wir den Eisvogel und hören Nachtigallen singen.\n\nWir tref
 fen uns am Mittwoch\, 29.05.2024 um 17:00 Uhr in Hildesheim-Himmelsthür a
 m Ende der Jahnstraße in der Wendeschleife am Sportplatz.
ATTACH;FMTTYPE=image/jpeg:https://k50p.de/wp-content/uploads/2018/08/flowe
 r-meadow-Geselligkeit-Wiese-Gruppe.jpg
CATEGORIES:K50p-aktiv
LOCATION:Jahnstr. Parkplatz am Wendeplatz\, Jahnstr.\, Hi-Himmelsthür\, 31
 137\, Deutschland
X-APPLE-STRUCTURED-LOCATION;VALUE=URI;X-ADDRESS=Jahnstr.\, Hi-Himmelsthür\
 , 31137\, Deutschland;X-APPLE-RADIUS=100;X-TITLE=Jahnstr. Parkplatz am Wen
 deplatz:geo:0,0
END:VEVENT
BEGIN:VTIMEZONE
TZID:Europe/Berlin
X-LIC-LOCATION:Europe/Berlin
BEGIN:DAYLIGHT
DTSTART:20240331T030000
TZOFFSETFROM:+0100
TZOFFSETTO:+0200
TZNAME:CEST
END:DAYLIGHT
END:VTIMEZONE
END:VCALENDAR