BEGIN:VCALENDAR
VERSION:2.0
PRODID:-//wp-events-plugin.com//7.2.3.1//EN
TZID:Europe/Berlin
X-WR-TIMEZONE:Europe/Berlin
BEGIN:VEVENT
UID:197@k50p.de
DTSTART;TZID=Europe/Berlin:20180801T170000
DTEND;TZID=Europe/Berlin:20180909T200000
DTSTAMP:20180831T155234Z
URL:https://k50p.de/events/abendstimmung-am-jo-beach
SUMMARY:Abendstimmung am Jo-Beach
DESCRIPTION:Die ruhige und idyllische Lage des Jo-Beaches am Hohnsensee lo
 ckt vor allem Naturfreunde an. An schönen Tagen wird der separate Eingang
  zum Sandstrand ab 18 Uhr kostenlos geöffnet. Der Strand ist mit Lieges
 tühlen und bequemen Sitzmöbeln versehen.Außerdem gibt es schattige Pl
 ätze unter Bäumen\, riesige Sonnensegel\, falls es mal zu heiß ist\, un
 d Pagodenzelte. Hier sind Beachbar und  ein kleiner Imbiss untergebracht
 . Die Getränkepreise sind wirklich sehr  sozial orientiert. Besucher die
  mit dem Rad kommen\, können ihr Gefährt mit auf die Anlage nehmen.Fotos
 : Jürgen Warps \nVorschlag: Treffpunkt um 17 Uhr auf dem Parkplatz beim 
 Restaurant Noah\, direkt neben der Trimm-Dich-Wiese\, danach kleiner Sp
 aziergang um den Hohnsensee. Um 18 Uhr geht's zum Entspannen auf das Jo-Be
 ach Gelände. Wir genießen den Abend\, könnten uns mal über künftige 
 Aktivitäten austauschen oder einfach nur am See ausruhen. Wir haben de
 n Jo-Beach schon mehrfach getestet. Herrlich\, der Abend am Seeufer mit ne
 tten Leuten verspricht immer Entspannung und gute Laune pur. Wer macht noc
 h mit?\nKurzfristige Terminabsprachen über FA Veranstaltungskalender oder
  Messenger.
LOCATION:Jo-Beach\, Eingang am Hohnsensee\, Hildesheim\, 31134\, Deutschlan
 d
X-APPLE-STRUCTURED-LOCATION;VALUE=URI;X-ADDRESS=Eingang am Hohnsensee\, Hil
 desheim\, 31134\, Deutschland;X-APPLE-RADIUS=100;X-TITLE=Jo-Beach:geo:0,0
END:VEVENT
BEGIN:VTIMEZONE
TZID:Europe/Berlin
X-LIC-LOCATION:Europe/Berlin
BEGIN:DAYLIGHT
DTSTART:20180325T030000
TZOFFSETFROM:+0100
TZOFFSETTO:+0200
TZNAME:CEST
END:DAYLIGHT
END:VTIMEZONE
END:VCALENDAR