BEGIN:VCALENDAR
VERSION:2.0
PRODID:-//wp-events-plugin.com//7.2.3.1//EN
TZID:Europe/Berlin
X-WR-TIMEZONE:Europe/Berlin
BEGIN:VEVENT
UID:380@k50p.de
DTSTART;TZID=Europe/Berlin:20190602T113000
DTEND;TZID=Europe/Berlin:20190602T170000
DTSTAMP:20190525T115541Z
URL:https://k50p.de/events/ausflugstipp-sonntag-2-juni-fagus-werk-alfeld
SUMMARY:Ausflugstipp: Sonntag 2. Juni Fagus-Werk Alfeld
DESCRIPTION:Das Fagus-Werk wurde im Jahr 2011 vom UNESCO-Welterbekomitee in
  die Weltkulturerbeliste aufgenommen und zählt zu den aktuell 42 Welterbe
 stätten in Deutschland.\n\nAm Sonntag 2. Juni 2019  zum bundesweiten UNE
 SCO-Weltkulturerbetag findet im Fagus-Werk in Alfeld\, Hannoversche Straß
 e 58 ein kostenloser Vortrag mit dem Titel "Das Fagus-Werk - warum Kulture
 rbe?" statt.\n\nBeginn um 11:30 Uhr  /  Ab 13:30 Uhr gibt es auf der B
 ühne des Hauses ein sehenswertes Tanzmedley zwischen Charleston &amp\; Sw
 ing zu sehen. hier Infos zum Tanzmedley\n\nWo?  Fagus Welterbe in Alfeld\
 , Hannoversche Straße 58. Besucher können den kostenfreier Shuttleverkeh
 r zwischen Fagus-Werk\, Bahnhof und Innenstadt benutzen.\n\nHier der Link 
 zur Website des Fagus Werks\n\nDer Klick auf diesen Link öffnet ein neues
 \, zusätzliches Fenster
CATEGORIES:Alle Termine &amp; Tipps
LOCATION:Fagus Werk Alfeld\, Hannoversche Str. 58\, Alfeld\, Deutschland
X-APPLE-STRUCTURED-LOCATION;VALUE=URI;X-ADDRESS=Hannoversche Str. 58\, Alfe
 ld\, Deutschland;X-APPLE-RADIUS=100;X-TITLE=Fagus Werk Alfeld:geo:0,0
END:VEVENT
BEGIN:VTIMEZONE
TZID:Europe/Berlin
X-LIC-LOCATION:Europe/Berlin
BEGIN:DAYLIGHT
DTSTART:20190331T030000
TZOFFSETFROM:+0100
TZOFFSETTO:+0200
TZNAME:CEST
END:DAYLIGHT
END:VTIMEZONE
END:VCALENDAR