BEGIN:VCALENDAR
VERSION:2.0
PRODID:-//wp-events-plugin.com//7.2.3.1//EN
TZID:Europe/Berlin
X-WR-TIMEZONE:Europe/Berlin
BEGIN:VEVENT
UID:378@k50p.de
DTSTART;TZID=Europe/Berlin:20190504T100000
DTEND;TZID=Europe/Berlin:20190505T180000
DTSTAMP:20190425T105013Z
URL:https://k50p.de/events/automeile-hildesheim
SUMMARY:Automeile Hildesheim
DESCRIPTION:Die Automeile in Hildesheim mit verkaufsoffenem Sonntag findet 
 am 4. und 5. Mai 2019 von 10.00 bis 18.00 Uhr in der Hildesheimer Innensta
 dt statt.\n\nGemeinsam mit den Hildesheimer Autohäusern und der Werbegeme
 inschaft „Die Freundlichen Hildesheimer“ stellt Hildesheim Marketing j
 ährlich ein vielseitiges\, zweitägiges Programm rund um Autos  und auto
 mobile Highlights auf die Beine.\n\nAm verkaufsoffenen Sonntag haben die G
 eschäfte von 13.00 bis 18.00 Uhr geöffnet.\n\nViel Spaß beim Bummel dur
 ch die Fußgängerzone.
CATEGORIES:Alle Termine &amp; Tipps
END:VEVENT
BEGIN:VTIMEZONE
TZID:Europe/Berlin
X-LIC-LOCATION:Europe/Berlin
BEGIN:DAYLIGHT
DTSTART:20190331T030000
TZOFFSETFROM:+0100
TZOFFSETTO:+0200
TZNAME:CEST
END:DAYLIGHT
END:VTIMEZONE
END:VCALENDAR