BEGIN:VCALENDAR
VERSION:2.0
PRODID:-//wp-events-plugin.com//7.2.3.1//EN
TZID:Europe/Berlin
X-WR-TIMEZONE:Europe/Berlin
BEGIN:VEVENT
UID:411@k50p.de
DTSTART;TZID=Europe/Berlin:20240509T140000
DTEND;TZID=Europe/Berlin:20240721T180000
DTSTAMP:20240719T092636Z
URL:https://k50p.de/events/bauer-frickes-erdbeercafe-am-see-eroeffnet
SUMMARY:Tipp: Bauer Frickes Erdbeercafé am See ist von Mai bis Juli geöff
 net
DESCRIPTION:Endlich wieder! Bauer Fricke hat das inmitten idyllischer Natur
  gelegenes Erdbeercafé  am See seit dem 9. Mai bis voraussichtlich Ende 
 Juli wieder geöffnet. Im Laufe der Saison werden zahlreiche verschiedene 
 Sorten Erdbeeren und etwas später auch Himbeeren angeboten. Unser Geheimt
 ipp: Die späten dunkelroten Sorten sind einfach himmlisch. Unwiederstehli
 ch für alle Erdbeerfans. Mit Eis\, als Törtchen oder Erdbeerkuchen mit S
 ahne. Dazu Kaffee oder Tee und leckere Erdbeershakes.\n\nDas Café ist wä
 hrend der Erdbeersaison von Mitte Mai bis Ende Juli täglich geöffnet\n\n
 Öffnungszeiten: Mo. - Fr. 14.00 - 18.00 Uhr / Sa.\, Sonn- und Feiertags 1
 3.00 - 18.00 Uhr\n\nDas Cafè und der Verkauf befinden sich an der Kreisst
 rasse zwischen Ronnenberg und Devese direkt am Erdbeerfeld.
ATTACH;FMTTYPE=image/jpeg:https://k50p.de/wp-content/uploads/2024/05/Erdbe
 ercafe-am-See.jpg
CATEGORIES:Veranstaltungen - Termine - Tipps
LOCATION:Erdbeercafé am See\, Kreisstrasse (K221-K226) zwischen Ronnenberg
  und Devese\, Ronnenberg (Ihme-Roloven)\, 30952\, Deutschland
X-APPLE-STRUCTURED-LOCATION;VALUE=URI;X-ADDRESS=Kreisstrasse (K221-K226) zw
 ischen Ronnenberg und Devese\, Ronnenberg (Ihme-Roloven)\, 30952\, Deutsch
 land;X-APPLE-RADIUS=100;X-TITLE=Erdbeercafé am See:geo:0,0
END:VEVENT
BEGIN:VTIMEZONE
TZID:Europe/Berlin
X-LIC-LOCATION:Europe/Berlin
BEGIN:DAYLIGHT
DTSTART:20240331T030000
TZOFFSETFROM:+0100
TZOFFSETTO:+0200
TZNAME:CEST
END:DAYLIGHT
END:VTIMEZONE
END:VCALENDAR