BEGIN:VCALENDAR
VERSION:2.0
PRODID:-//wp-events-plugin.com//7.2.3.1//EN
TZID:Europe/Berlin
X-WR-TIMEZONE:Europe/Berlin
BEGIN:VEVENT
UID:728@k50p.de
DTSTART;TZID=Europe/Berlin:20250510T140000
DTEND;TZID=Europe/Berlin:20250731T180000
DTSTAMP:20250501T204239Z
URL:https://k50p.de/events/bauer-frickes-erdbeercafe-am-see-vom-10-mai-bis
 -ende-juli-wieder-geoeffnet
SUMMARY:Bauer Frickes Erdbeercafé am See vom 10. Mai bis Ende Juli wieder 
 geöffnet
DESCRIPTION:Schon mal vorplanen. Es lohnt sich. Vom 10. Mai bis zum Ende de
 r Erdbeersaison im Juli ist das idyllisch gelegene Erdbeercafé am See von
  14 bis 18 Uhr geöffnet. Wer kommt mit? Absprache per Messenger.
ATTACH;FMTTYPE=image/jpeg:https://k50p.de/wp-content/uploads/2024/05/Erdbe
 ercafe-am-See.jpg
CATEGORIES:Veranstaltungen - Termine - Tipps
LOCATION:Erdbeercafé am See\, Kreisstrasse (K221-K226) zwischen Ronnenberg
  und Devese\, Ronnenberg (Ihme-Roloven)\, 30952\, Deutschland
X-APPLE-STRUCTURED-LOCATION;VALUE=URI;X-ADDRESS=Kreisstrasse (K221-K226) zw
 ischen Ronnenberg und Devese\, Ronnenberg (Ihme-Roloven)\, 30952\, Deutsch
 land;X-APPLE-RADIUS=100;X-TITLE=Erdbeercafé am See:geo:0,0
END:VEVENT
BEGIN:VTIMEZONE
TZID:Europe/Berlin
X-LIC-LOCATION:Europe/Berlin
BEGIN:DAYLIGHT
DTSTART:20250330T030000
TZOFFSETFROM:+0100
TZOFFSETTO:+0200
TZNAME:CEST
END:DAYLIGHT
END:VTIMEZONE
END:VCALENDAR