BEGIN:VCALENDAR
VERSION:2.0
PRODID:-//wp-events-plugin.com//7.2.3.1//EN
TZID:Europe/Berlin
X-WR-TIMEZONE:Europe/Berlin
BEGIN:VEVENT
UID:291@k50p.de
DTSTART;TZID=Europe/Berlin;VALUE=DATE:20180923
DTEND;TZID=Europe/Berlin;VALUE=DATE:20180924
DTSTAMP:20180827T203400Z
URL:https://k50p.de/events/bauernmarkt
SUMMARY:Bauernmarkt
DESCRIPTION:Bauernmarkt und verkaufsoffener Sonntag in Hildesheim\nAm 23. S
 eptember bietet der Hildesheimer Bauernmarkt allen Gästen viele verschied
 ene landwirtschaftliche Produkte zum Probieren und Staunen an. Das Sortime
 nt der zahlreichen Aussteller steht unter dem Motto „landwirtschaftliche
  Urproduktion und bäuerliche Gebrauchskunst“. Rund 100 Aussteller präs
 entieren stilvolle und künstlerische Dekorationsartikel für Haus und Gar
 ten\, herbstliche Blumengebinde\, Kürbis- und Kartoffelspezialitäten\, B
 ienenprodukte\, Marmeladen\, Kräuter und Gewürze ebenso wie regionale Wu
 rstwaren und Spezialitäten aus der typischen Landfrauenküche.\n\nDie Wer
 begemeinschaft „Die Freundlichen Hildesheimer“ ergänzt den Bauernmark
 t durch einen verkaufsoffenen Sonntag. Die Geschäfte haben von 13.00 bis 
 18.00 Uhr geöffnet.\n\n\n\n&nbsp\;\n\n&nbsp\;
CATEGORIES:Alle Termine &amp; Tipps
LOCATION:Fußgängerzone\, Innenstadt\, Hildesheim\, Deutschland
X-APPLE-STRUCTURED-LOCATION;VALUE=URI;X-ADDRESS=Innenstadt\, Hildesheim\, D
 eutschland;X-APPLE-RADIUS=100;X-TITLE=Fußgängerzone:geo:0,0
END:VEVENT
BEGIN:VTIMEZONE
TZID:Europe/Berlin
X-LIC-LOCATION:Europe/Berlin
BEGIN:DAYLIGHT
DTSTART:20180325T030000
TZOFFSETFROM:+0100
TZOFFSETTO:+0200
TZNAME:CEST
END:DAYLIGHT
END:VTIMEZONE
END:VCALENDAR