BEGIN:VCALENDAR
VERSION:2.0
PRODID:-//wp-events-plugin.com//7.2.3.1//EN
TZID:Europe/Berlin
X-WR-TIMEZONE:Europe/Berlin
BEGIN:VEVENT
UID:632@k50p.de
DTSTART;TZID=Europe/Berlin:20241104T150000
DTEND;TZID=Europe/Berlin:20241104T171500
DTSTAMP:20241031T114559Z
URL:https://k50p.de/events/besichtigung-ndr-1-radio-niedersachsen-und-hall
 o-niedersachsen-fernsehstudio
SUMMARY:Besichtigung: "NDR 1 Radio-Niedersachsen" und "Hallo Niedersachsen"
  Fernsehstudio
DESCRIPTION:Wir besuchen das NDR-Funkhaus in Hannover und schauen hinter di
 e Kulissen von Hörfunk und Fernsehen. Auf der rund zweistündigen\, gefü
 hrten Tour werfen wir nicht nur einen Blick in das Sendestudio von NDR 1 R
 adio-Niedersachsen\, sondern besuchen auch das Fernsehstudio von Hallo Nie
 dersachsen. Außerdem sehen wir uns in den übrigen Produktionsbereichen v
 on Hörfunk und Fernsehen um und gehen durch die Sendesäle des Landesfunk
 hauses. Mit etwas Glück treffen wir sogar auf bekannte Stimmen und Gesich
 ter aus Hörfunk und Fernsehen.\n\nDer laufende Produktionsablauf darf nat
 ürlich nicht gestört werden. Darum ist die Anzahl der Besucher auf maxim
 al 20 Teilnehmer begrenzt.\n\nAus diesem Grund ist eine rechtzeitige\, vor
 herige Anmeldung erforderlich. Es sind nur noch 2 Restplätze vorhanden. D
 ie Führung beim NDR ist kostenlos. Anmeldung noch möglich bei Hi-Senior-
 aktiv über den Messenger.\n\nAlle Infos hier:  https://k50p.de/hi-senior
 -aktiv\n\n&nbsp\;
ATTACH;FMTTYPE=image/jpeg:https://k50p.de/wp-content/uploads/2024/09/Besic
 htigung-NDR-1.jpg
CATEGORIES:Alle Termine &amp; Tipps,Termine &amp; Info K50p /
 Hi-Senior-aktiv
LOCATION:NDR Landesfunkhaus Niedersachsen\, Rudolf-von-Bennigsen-Ufer 22\, 
 Hannover\, 30169\, Deutschland
X-APPLE-STRUCTURED-LOCATION;VALUE=URI;X-ADDRESS=Rudolf-von-Bennigsen-Ufer 2
 2\, Hannover\, 30169\, Deutschland;X-APPLE-RADIUS=100;X-TITLE=NDR Landesfu
 nkhaus Niedersachsen:geo:0,0
END:VEVENT
BEGIN:VTIMEZONE
TZID:Europe/Berlin
X-LIC-LOCATION:Europe/Berlin
BEGIN:STANDARD
DTSTART:20241027T020000
TZOFFSETFROM:+0200
TZOFFSETTO:+0100
TZNAME:CET
END:STANDARD
END:VTIMEZONE
END:VCALENDAR