BEGIN:VCALENDAR
VERSION:2.0
PRODID:-//wp-events-plugin.com//7.2.3.1//EN
TZID:Europe/Berlin
X-WR-TIMEZONE:Europe/Berlin
BEGIN:VEVENT
UID:140@k50p.de
DTSTART;TZID=Europe/Berlin:20180904T160000
DTEND;TZID=Europe/Berlin:20180904T190000
DTSTAMP:20180812T151043Z
URL:https://k50p.de/events/damentreff-kuno-2018-09-04
SUMMARY:Damentreff KUNO
DESCRIPTION:Der KUNO Damentreff im September fällt aus. Das Piccolo ist ge
 schlossen. Wir wünschen einen schönen Urlaub in Italien!\nItalienisches
  Flair in der Nordstadt. Jeden ersten Dienstag im Monat ab 16:00 Uhr Dam
 entreff im Cafe-Bistro Piccolo in der Richthofenstr. 6.\nFoto: Jürgen Wa
 rps
LOCATION:Bistro & Cafe Piccolo\, Richthofenstr. 6\, Hildesheim\, Deutschlan
 d
X-APPLE-STRUCTURED-LOCATION;VALUE=URI;X-ADDRESS=Richthofenstr. 6\, Hildeshe
 im\, Deutschland;X-APPLE-RADIUS=100;X-TITLE=Bistro & Cafe Piccolo:geo:0,0
END:VEVENT
BEGIN:VTIMEZONE
TZID:Europe/Berlin
X-LIC-LOCATION:Europe/Berlin
BEGIN:DAYLIGHT
DTSTART:20180325T030000
TZOFFSETFROM:+0100
TZOFFSETTO:+0200
TZNAME:CEST
END:DAYLIGHT
END:VTIMEZONE
END:VCALENDAR