BEGIN:VCALENDAR
VERSION:2.0
PRODID:-//wp-events-plugin.com//7.2.3.1//EN
TZID:Europe/Berlin
X-WR-TIMEZONE:Europe/Berlin
BEGIN:VEVENT
UID:196@k50p.de
DTSTART;TZID=Europe/Berlin:20180714T193000
DTEND;TZID=Europe/Berlin:20180714T193000
DTSTAMP:20180628T204036Z
URL:https://k50p.de/events/django-reinhardt-guitar-festival
SUMMARY:Django  Reinhardt Guitar Festival
DESCRIPTION:Sinti Musik Festival Gypsy International\nBeginn 19:30 Uhr\, Ei
 nlass ab 18:00 Uhr\, Eintritt pro Person 20 €\, Eintrittskarten nur an d
 er Abendkasse am Haupteingang\n\n[caption id="attachment_395" align="align
 center" width="1024"] gazrock / Pixabay[/caption]\nDas Festival Gypsy Musi
 k International ist einzigartig in Deutschland. Es bietet mit Live-Bands a
 us unterschiedlichsten europäischen Ländern eine einzigartige Atmosphär
 e. sich zu begegnen\, durch Musik Kontakte zu knüpfen und zu pflegen. Der
  Verein Hildesheimer Sinti e.V. möchte mit dem Festival ein verständnisv
 olles und vorurteilsfreies Miteinander zwischen den deutschen Sinti und de
 r Mehrheitsgesellschaft aufbauen.
CATEGORIES:Alle Termine &amp; Tipps
LOCATION:Gut Steuerwald\, Mastbergstr. 19\, Hildesheim\, Deutschland
X-APPLE-STRUCTURED-LOCATION;VALUE=URI;X-ADDRESS=Mastbergstr. 19\, Hildeshei
 m\, Deutschland;X-APPLE-RADIUS=100;X-TITLE=Gut Steuerwald:geo:0,0
END:VEVENT
BEGIN:VTIMEZONE
TZID:Europe/Berlin
X-LIC-LOCATION:Europe/Berlin
BEGIN:DAYLIGHT
DTSTART:20180325T030000
TZOFFSETFROM:+0100
TZOFFSETTO:+0200
TZNAME:CEST
END:DAYLIGHT
END:VTIMEZONE
END:VCALENDAR