BEGIN:VCALENDAR
VERSION:2.0
PRODID:-//wp-events-plugin.com//7.2.3.1//EN
TZID:Europe/Berlin
X-WR-TIMEZONE:Europe/Berlin
BEGIN:VEVENT
UID:356@k50p.de
DTSTART;TZID=Europe/Berlin;VALUE=DATE:20190111
DTEND;TZID=Europe/Berlin;VALUE=DATE:20190226
DTSTAMP:20190203T175437Z
URL:https://k50p.de/events/eiszeit-2019
SUMMARY:Eiszeit 2019
DESCRIPTION:"Rauf aufs Eis" heißt es von Freitag\, 11. Januar\, bis Montag
 \, 25. Februar in Hildesheim auf dem Platz An der Lille. Auf einer 750 Qu
 adratmeter großen Eisfläche können Eislauffans ihre Runden drehen. Anf
 änger wagen erste Gehversuche ungestört im geschützten Innenfeld. Doch
  nicht nur sportlich aktive Besucher kommen auf ihre Kosten. Die Terrasse
  der rustikalen Almhütte lädt alle Fans der Eiszeit zum gemütlichen B
 eisammensein und Aufwärmen ein.\n\n\n[caption id="attachment_1925" align=
 "aligncenter" width="1024"] annca / Pixabay[/caption]\n\nSchlittschuhlaufe
 n\n\nMo. - Fr.: 08:30 - 19:45 Uhr\n\nSa. u. So.: 10:00 - 19:45 Uhr\n\nHinw
 eis:  Am 09.02.2019 ist Schlittschuhlaufen auf der Eiszeit aufgrund des 
 Sparkassen-Cup-Finales erst ab 18 Uhr möglich.
CATEGORIES:Alle Termine &amp; Tipps
END:VEVENT
BEGIN:VTIMEZONE
TZID:Europe/Berlin
X-LIC-LOCATION:Europe/Berlin
BEGIN:STANDARD
DTSTART:20181028T020000
TZOFFSETFROM:+0200
TZOFFSETTO:+0100
TZNAME:CET
END:STANDARD
END:VTIMEZONE
END:VCALENDAR