BEGIN:VCALENDAR
VERSION:2.0
PRODID:-//wp-events-plugin.com//7.2.3.1//EN
TZID:Europe/Berlin
X-WR-TIMEZONE:Europe/Berlin
BEGIN:VEVENT
UID:195@k50p.de
DTSTART;TZID=Europe/Berlin;VALUE=DATE:20180714
DTEND;TZID=Europe/Berlin;VALUE=DATE:20180715
DTSTAMP:20180703T203505Z
URL:https://k50p.de/events/fahrradtour-mit-den-kunos
SUMMARY:Fahrradtour mit den KUNOs
DESCRIPTION:Unsere Radtour am 14.Juli wird nur bei Schönwetter durchgef
 ührt. Als Ausweichtermin wird der 21. Juli angestrebt. Daher kurzfrist
 ige Terminabsprache per Messenger oder Telefon. Einfache Streckenlänge c
 a. 22 km. Nicht-Radfahrer können das Ziel mit dem PKW erreichen. 
END:VEVENT
BEGIN:VTIMEZONE
TZID:Europe/Berlin
X-LIC-LOCATION:Europe/Berlin
BEGIN:DAYLIGHT
DTSTART:20180325T030000
TZOFFSETFROM:+0100
TZOFFSETTO:+0200
TZNAME:CEST
END:DAYLIGHT
END:VTIMEZONE
END:VCALENDAR