BEGIN:VCALENDAR
VERSION:2.0
PRODID:-//wp-events-plugin.com//7.2.3.1//EN
TZID:Europe/Berlin
X-WR-TIMEZONE:Europe/Berlin
BEGIN:VEVENT
UID:198@k50p.de
DTSTART;TZID=Europe/Berlin:20180920T093000
DTEND;TZID=Europe/Berlin:20180920T093000
DTSTAMP:20180813T141823Z
URL:https://k50p.de/events/fruehstueck-betriebsbesichtigung
SUMMARY:Frühstück & Betriebsbesichtigung
DESCRIPTION:Die Lebenshilfe lädt ein:\nReichhaltiges Frühstück mit Fü
 hrung durch die Werkstätten der Lebenshilfe am 20.September um 9:30 Uhr
  am Römerring 96 in 31137 Hildesheim.\nDas Geschenkelädchen "Schau mal 
  rein" der Lebenshilfe am Römerring kennt wohl jeder Bürger in Hildeshe
 im. Weitgehend unbekannt sind aber die vielen anderen Produktionsstätten 
 und Dienstleistungen von Menschen mit Behinderung\, die bei der Lebenshilf
 e einen Arbeitsplatz gefunden haben.\nVon Holz-\, Metall- und Textilwerkst
 ätten\, Druckerei\, Kantinenbewirtschaftung\, kleinen Montage- und Elektr
 owerkstätten hat man vielleicht schon einmal etwas gehört. Aber wer kenn
 t eigentlich den Fahrradservice\, die Haushandwerker und Experten für Ga
 rtenbau?\nWir dürfen uns sicherlich auf so manche Überraschung bei dies
 er geführten Betriebsbesichtigung der besonderen Art einstellen. Erstaunl
 ich\, bei allen Tätigkeiten ist ein zertifiziertes Qualitätsmanagementsy
 stem nach DIN-Vorschriften selbstverständlich. Eine interessante Besicht
 igung. Lassen wir uns überraschen!\nBitte rechtzeitig anmelden\, weil die
  Anzahl der Teilnehmer begrenzt ist.\nRitaE / Pixabay
LOCATION:Werkstätten der Lebenshilfe\, Römerring 96\, Hildesheim\, 31137\
 , Deutschland
X-APPLE-STRUCTURED-LOCATION;VALUE=URI;X-ADDRESS=Römerring 96\, Hildesheim\
 , 31137\, Deutschland;X-APPLE-RADIUS=100;X-TITLE=Werkstätten der Lebenshi
 lfe:geo:0,0
END:VEVENT
BEGIN:VTIMEZONE
TZID:Europe/Berlin
X-LIC-LOCATION:Europe/Berlin
BEGIN:DAYLIGHT
DTSTART:20180325T030000
TZOFFSETFROM:+0100
TZOFFSETTO:+0200
TZNAME:CEST
END:DAYLIGHT
END:VTIMEZONE
END:VCALENDAR