BEGIN:VCALENDAR
VERSION:2.0
PRODID:-//wp-events-plugin.com//7.2.3.1//EN
TZID:Europe/Berlin
X-WR-TIMEZONE:Europe/Berlin
BEGIN:VEVENT
UID:403@k50p.de
DTSTART;TZID=Europe/Berlin:20240511T110000
DTEND;TZID=Europe/Berlin:20240512T180000
DTSTAMP:20240505T182927Z
URL:https://k50p.de/events/garten-und-wellnessfest-bad-salzdetfurth-2024
SUMMARY:Garten- und Wellnessfest Bad Salzdetfurth 2024
DESCRIPTION:Bereits zum zwölften Mal erstrahlt im Frühlingsglanz am Mutte
 rtags-Wochenende das Garten- und Wellnessfest im Kurpark von Bad Salzdetfu
 rth. Hierzu reisen deutschlandweit mehr als 70 Aussteller an\, um mit neue
 sten Trends aus den Bereichen Garten\, Wellness und Kunsthandwerk zu über
 raschen. Zwischen den 250 Jahre alten Gradierwerken und auf den Grünfläc
 hen im Park gibt es wieder viel zu entdecken.\n\nFür das leibliche Wohl d
 er Besucher wird in diesem Jahr eine ausgiebige Gourmetmeile errichtet\, i
 n der für jeden Feinschmecker etwas passendes zu finden ist. Ob Fleischli
 ebhaber oder Vegetarier\, ob eher der herzhafte oder der süße Typ\, die 
 zahlreichen Gastronomen laden zum Probieren ein. Die Besucher haben die Wa
 hl zwischen Fleischspezialitäten\, Flammkuchen\, italienischem Speiseeis 
 sowie Mandelgebäck\, Confiserien und Süßwaren. Für die besondere Note 
 sorgen die fein erlesenen Weine aus Rheinhessen. Der Eintritt ist frei.
CATEGORIES:Alle Termine &amp; Tipps
LOCATION:Kurpark Bad Salzdetfurth\, Unterstraße 87\, Bad Salzdetfurth\, 31
 162 \, Deutschland
X-APPLE-STRUCTURED-LOCATION;VALUE=URI;X-ADDRESS=Unterstraße 87\, Bad Salzd
 etfurth\, 31162 \, Deutschland;X-APPLE-RADIUS=100;X-TITLE=Kurpark Bad Salz
 detfurth:geo:0,0
END:VEVENT
BEGIN:VTIMEZONE
TZID:Europe/Berlin
X-LIC-LOCATION:Europe/Berlin
BEGIN:DAYLIGHT
DTSTART:20240331T030000
TZOFFSETFROM:+0100
TZOFFSETTO:+0200
TZNAME:CEST
END:DAYLIGHT
END:VTIMEZONE
END:VCALENDAR