BEGIN:VCALENDAR
VERSION:2.0
PRODID:-//wp-events-plugin.com//7.2.3.1//EN
TZID:Europe/Berlin
X-WR-TIMEZONE:Europe/Berlin
BEGIN:VEVENT
UID:293@k50p.de
DTSTART;TZID=Europe/Berlin:20181126T110000
DTEND;TZID=Europe/Berlin:20181227T200000
DTSTAMP:20180930T124917Z
URL:https://k50p.de/events/hildesheimer-weihnachtsmarkt
SUMMARY:Hildesheimer Weihnachtsmarkt
DESCRIPTION:Weihnachtsmarkt in Hildesheim\nDer Hildesheimer Weihnachtsmarkt
  auf dem Marktplatz täglich von 11 - 20 Uhr. Einzelne gastronomische Stä
 nde haben darüber hinaus bis 21.30 Uhr geöffnet. Am 24. und 25. Dezember
  bleibt der Weihnachtsmarkt geschlossen und am 26. Dezember ab 14 Uhr geö
 ffnet. (alle Angaben ohne Gewähr) Foto: Jürgen Warps
CATEGORIES:Alle Termine &amp; Tipps
LOCATION:Marktplatz Hildesheim\, Markt 1\, Hildesheim\, 31134\, Deutschland
X-APPLE-STRUCTURED-LOCATION;VALUE=URI;X-ADDRESS=Markt 1\, Hildesheim\, 3113
 4\, Deutschland;X-APPLE-RADIUS=100;X-TITLE=Marktplatz Hildesheim:geo:0,0
END:VEVENT
BEGIN:VTIMEZONE
TZID:Europe/Berlin
X-LIC-LOCATION:Europe/Berlin
BEGIN:STANDARD
DTSTART:20181028T020000
TZOFFSETFROM:+0200
TZOFFSETTO:+0100
TZNAME:CET
END:STANDARD
END:VTIMEZONE
END:VCALENDAR