BEGIN:VCALENDAR
VERSION:2.0
PRODID:-//wp-events-plugin.com//7.2.3.1//EN
TZID:Europe/Berlin
X-WR-TIMEZONE:Europe/Berlin
BEGIN:VEVENT
UID:359@k50p.de
DTSTART;TZID=Europe/Berlin;VALUE=DATE:20190405
DTEND;TZID=Europe/Berlin;VALUE=DATE:20190408
DTSTAMP:20190226T201832Z
URL:https://k50p.de/events/hopfen-happen
SUMMARY:Hopfen & Happen
DESCRIPTION:Die Hildesheimer Fußgängerzone verwandelt sich für drei Tage
  in ein Paradies für Streetfood- und Craftbeerliebhaber.  Auf dem regio
 nalen Schmeckfest der Region präsentiert sich eine Vielzahl von Brauereie
 n und Caterern aus dem Hildesheimer Land. Dabei soll die regionale Identit
 ät gefördert werden.\nUnd so verbindet HOPFEN &amp\; HAPPEN auf eine nac
 hhaltige Art die kulinarischen Höhepunkte traditioneller Streetfood-Festi
 vals mit der Idee eines lokalen Genussmarktes.\nDer verkaufsoffene Sonntag
  am 7. April von 13 bis 18 Uhr lädt in den Schlemmerpausen außerdem zum 
 gemütlichen Shoppingtrip ein.\n\n\n[caption id="attachment_1946" align="a
 ligncenter" width="1024"] Momentmal / Pixabay[/caption]
CATEGORIES:Alle Termine &amp; Tipps
LOCATION:Fußgängerzone\, Innenstadt\, Hildesheim\, Deutschland
X-APPLE-STRUCTURED-LOCATION;VALUE=URI;X-ADDRESS=Innenstadt\, Hildesheim\, D
 eutschland;X-APPLE-RADIUS=100;X-TITLE=Fußgängerzone:geo:0,0
END:VEVENT
BEGIN:VTIMEZONE
TZID:Europe/Berlin
X-LIC-LOCATION:Europe/Berlin
BEGIN:DAYLIGHT
DTSTART:20190331T030000
TZOFFSETFROM:+0100
TZOFFSETTO:+0200
TZNAME:CEST
END:DAYLIGHT
END:VTIMEZONE
END:VCALENDAR