BEGIN:VCALENDAR
VERSION:2.0
PRODID:-//wp-events-plugin.com//7.2.3.1//EN
TZID:Europe/Berlin
X-WR-TIMEZONE:Europe/Berlin
BEGIN:VEVENT
UID:164@k50p.de
DTSTART;TZID=Europe/Berlin;VALUE=DATE:20180629
DTEND;TZID=Europe/Berlin;VALUE=DATE:20180702
DTSTAMP:20180629T114842Z
URL:https://k50p.de/events/internationale-bierboerse
SUMMARY:Internationale Bierbörse
DESCRIPTION:Bierbörse vom 29. Juni bis 01. Juli 2018 in Hildesheim\nDie V
 eranstaltungsfläche bietet ausreichend Platz für die großzügige Errich
 tung eines riesigen idyllischer Biergartens. Mehr als 30 Bier- und Imbiss
 stände aus zahlreichen Ländern präsentieren über 450 heimische und au
 ßergewöhnliche Spezialitäten. Marktplatz und Fußgängerzone werden da
 nn in einen großen Biergarten mit insgesamt über tausend Sitzplätzen v
 erwandelt.\nJeder Brauer begrüßt seine Gäste im eigenen errichteten Bie
 rgarten. Ein tolles Musikprogramm sorgt an allen drei Veranstaltungstagen 
 für den beliebten Festivalcharakter der Bierbörse. Die Eröffnung mit de
 m traditionellen Faßanstich findet am Freitag um 17 Uhr im Biergarten der
  Mönchshofbrauerei statt.\n&nbsp\;\n\nFreitag:    15.00 - 24.00 Uhr\nSa
 mstag: 12.00 - 24.00 Uhr\nSonntag:  11.00 - 20.00 Uhr
CATEGORIES:Alle Termine &amp; Tipps
END:VEVENT
BEGIN:VTIMEZONE
TZID:Europe/Berlin
X-LIC-LOCATION:Europe/Berlin
BEGIN:DAYLIGHT
DTSTART:20180325T030000
TZOFFSETFROM:+0100
TZOFFSETTO:+0200
TZNAME:CEST
END:DAYLIGHT
END:VTIMEZONE
END:VCALENDAR