BEGIN:VCALENDAR
VERSION:2.0
PRODID:-//wp-events-plugin.com//7.2.3.1//EN
TZID:Europe/Berlin
X-WR-TIMEZONE:Europe/Berlin
BEGIN:VEVENT
UID:377@k50p.de
DTSTART;TZID=Europe/Berlin:20190414T110000
DTEND;TZID=Europe/Berlin:20190414T110000
DTSTAMP:20190331T203758Z
URL:https://k50p.de/events/konzert-der-beustertaler
SUMMARY:Konzert der Beustertaler
DESCRIPTION:Egerländer Spezialitäten von den Beustertalern und Musik-Work
 shop mit Konzert für böhmisch-mährische Blasmusik. Die Musikanten um Th
 omas Schindler laden alle Bürgerinnen und Bürger\, Vereine\, Freunde und
  alle\, die sich von volkstümlicher Musik begeistern lassen herzlich ein.
  Unter dem Motto "Blasmusik für alle" soll es  am Sonntag\, den 14.April
  2019\,um 11 Uhr in der Steinberghalle in 31199 Diekholzen\, Langes Feld 1
  wieder ein unterhaltsamer und gemütlicher Vormittag werden.\n\nKonzertka
 rten gibt es in der Bäckerei Brunke\,Marienburger Str.21 in Diekholzen (T
 el.05121-261971)\,bei Markus Höweling (Tel.05121-268862)\,bei Thomas Schi
 ndler (Tel.0171-2600062)sowie an der Tageskasse für zehn Euro. Einlass ab
  10:00 Uhr.\nDie Musiker bereiten sich am 12. und 13. April (Freitag/Samst
 ag) bei einem Probenwochenende in Diekholzen vor. Musikanten\, die gern mi
 tspielen möchten bekommen weitere Infos unter der Telefonnummer 0171-2600
 062.
CATEGORIES:Alle Termine &amp; Tipps
LOCATION:Steinberghalle Diekholzen\, Langes Feld 1\, Diekholzen\, 31199\, D
 eutschland
X-APPLE-STRUCTURED-LOCATION;VALUE=URI;X-ADDRESS=Langes Feld 1\, Diekholzen\
 , 31199\, Deutschland;X-APPLE-RADIUS=100;X-TITLE=Steinberghalle Diekholzen
 :geo:0,0
END:VEVENT
BEGIN:VTIMEZONE
TZID:Europe/Berlin
X-LIC-LOCATION:Europe/Berlin
BEGIN:DAYLIGHT
DTSTART:20190331T030000
TZOFFSETFROM:+0100
TZOFFSETTO:+0200
TZNAME:CEST
END:DAYLIGHT
END:VTIMEZONE
END:VCALENDAR