BEGIN:VCALENDAR
VERSION:2.0
PRODID:-//wp-events-plugin.com//7.2.3.1//EN
TZID:Europe/Berlin
X-WR-TIMEZONE:Europe/Berlin
BEGIN:VEVENT
UID:165@k50p.de
DTSTART;TZID=Europe/Berlin:20180630T190000
DTEND;TZID=Europe/Berlin:20180826T190000
DTSTAMP:20180809T172505Z
URL:https://k50p.de/events/marktplatz-musiktage
SUMMARY:Marktplatz Musiktage
DESCRIPTION:Kostenlose Open-Air-Konzerte jeden Freitag und Samstag im Juli 
 und August in Hildesheim. Beginn meist um 19 Uhr auf dem historischen Ma
 rktplatz. Ein Tipp für alle K50er:  Sich mit den persönlichen Lieblin
 gsmenschen vorher absprechen und frühzeitig einen Platz bei den ansässig
 en Gastronomiebetrieben ergattern. Die Veranstaltungen sind immer sehr gut
  besucht.\n\n\n\nNicht traurig sein\, wenn's mit  dem Logenplatz zum Woch
 enende mal nicht klappt. Aber clevere Straßenmusiker haben die Marktlüc
 ke längst erkannt und treten dort häufig abends auf. Da  gibt es meist 
 noch genug freie Plätze. Dieser Geiger z. Bsp. verzauberte an einem gew
 öhnlichen Abend mit perfektem Spiel die Herzen aller Anwesenden. Tasche
 ntücher waren gefragt. Einige Damen sollen  sogar ein paar Tränen wegg
 ewischt haben.\n\nFotos: Jürgen Warps
CATEGORIES:Alle Termine &amp; Tipps
LOCATION:Marktplatz Hildesheim\, Markt 1\, Hildesheim\, 31134\, Deutschland
X-APPLE-STRUCTURED-LOCATION;VALUE=URI;X-ADDRESS=Markt 1\, Hildesheim\, 3113
 4\, Deutschland;X-APPLE-RADIUS=100;X-TITLE=Marktplatz Hildesheim:geo:0,0
END:VEVENT
BEGIN:VTIMEZONE
TZID:Europe/Berlin
X-LIC-LOCATION:Europe/Berlin
BEGIN:DAYLIGHT
DTSTART:20180325T030000
TZOFFSETFROM:+0100
TZOFFSETTO:+0200
TZNAME:CEST
END:DAYLIGHT
END:VTIMEZONE
END:VCALENDAR