BEGIN:VCALENDAR
VERSION:2.0
PRODID:-//wp-events-plugin.com//7.2.3.1//EN
TZID:Europe/Berlin
X-WR-TIMEZONE:Europe/Berlin
BEGIN:VEVENT
UID:166@k50p.de
DTSTART;TZID=Europe/Berlin;VALUE=DATE:20180801
DTEND;TZID=Europe/Berlin;VALUE=DATE:20180820
DTSTAMP:20180813T182713Z
URL:https://k50p.de/events/maschseefest-hannover
SUMMARY:Maschseefest Hannover
DESCRIPTION:Das Maschseefest Hannover setzt vom 1. bis 19. August 2018 die 
 Segel.\nFreunde einladen\, sich wohlfühlen\, das Leben genießen und Spa
 ß haben - das ist das Maschseefest! An 19 Tagen haben die Besucher beim
  größten Volksfest in Niedersachen die Möglichkeit auf eine kulinarisch
 e und künstlerische Weltreise zu gehen. Das Maschseefest verlängert die 
 Ferien und gibt dem Urlaub eine internationale Bühne. Nimm dir Zeit für 
 eine Reise um die Welt! K50p ist dabei.\nDeutschlands größtes Seefest i
 st der absolute Höhepunkt in Niedersachsen. Das gastronomische Angebot is
 t beeindruckend und die Darbietungen der Künstler und Bands entspreche
 n durchaus  Spitzenklasse. Hier  wird wirklich extrem viel geboten. W
 ir waren in den letzten Jahren mehrfach begeistert dabei. Unvergessen bl
 eibt der nächtliche Spaziergang und die Beleuchtung rund um den See. Mac
 ht immer Lust auf eine Wiederholung im nächsten Jahr. Die Bilanz zum let
 ztjährigen Maschseefest 2017: 1\,7 Millionen Gäste. Toll!\nUnbedingt den
  neuen Film zum Fest anschauen. Macht gute Laune!\n[embed]https://www.hann
 over.de/Maschseefest/xrowvideo/download/712771/17915108/9/2d27ca1e3840a639
 811e585e5e5ef104.360p.conv.mp4[/embed]\nDer Film zum Maschseefest 2018: ©
  HVG / connect-tv\nHier der Link zum Maschseefest 2018. Bitte hier oder 
 unten auf das Bild klicken. Im neuen\, zusätzlichen Fenster wird die of
 fizielle Website mit allen Infos\, Bands und Terminen zum Fest 2018 angeze
 igt. \nPressefoto Copyright: HMTG
CATEGORIES:Alle Termine &amp; Tipps
LOCATION:Maschsee\, Maschsee\, Hannover\, Deutschland
X-APPLE-STRUCTURED-LOCATION;VALUE=URI;X-ADDRESS=Maschsee\, Hannover\, Deuts
 chland;X-APPLE-RADIUS=100;X-TITLE=Maschsee:geo:0,0
END:VEVENT
BEGIN:VTIMEZONE
TZID:Europe/Berlin
X-LIC-LOCATION:Europe/Berlin
BEGIN:DAYLIGHT
DTSTART:20180325T030000
TZOFFSETFROM:+0100
TZOFFSETTO:+0200
TZNAME:CEST
END:DAYLIGHT
END:VTIMEZONE
END:VCALENDAR