BEGIN:VCALENDAR
VERSION:2.0
PRODID:-//wp-events-plugin.com//7.2.3.1//EN
TZID:Europe/Berlin
X-WR-TIMEZONE:Europe/Berlin
BEGIN:VEVENT
UID:727@k50p.de
DTSTART;TZID=Europe/Berlin;VALUE=DATE:20250730
DTEND;TZID=Europe/Berlin;VALUE=DATE:20250818
DTSTAMP:20250603T095207Z
URL:https://k50p.de/events/maschseefest
SUMMARY:Maschseefest
DESCRIPTION:Das Maschseefest Hannover findet vom 30. Juli bis zum 17. Augus
 t 2025 statt
ATTACH;FMTTYPE=image/jpeg:https://k50p.de/wp-content/uploads/2024/07/Masch
 see-Nordufer.jpg
CATEGORIES:K50p-aktiv,Veranstaltungen - Termine - Tipps
LOCATION:Maschsee\, Maschsee\, Hannover\, Deutschland
X-APPLE-STRUCTURED-LOCATION;VALUE=URI;X-ADDRESS=Maschsee\, Hannover\, Deuts
 chland;X-APPLE-RADIUS=100;X-TITLE=Maschsee:geo:0,0
END:VEVENT
BEGIN:VTIMEZONE
TZID:Europe/Berlin
X-LIC-LOCATION:Europe/Berlin
BEGIN:DAYLIGHT
DTSTART:20250330T030000
TZOFFSETFROM:+0100
TZOFFSETTO:+0200
TZNAME:CEST
END:DAYLIGHT
END:VTIMEZONE
END:VCALENDAR