BEGIN:VCALENDAR
VERSION:2.0
PRODID:-//wp-events-plugin.com//7.2.3.1//EN
TZID:Europe/Berlin
X-WR-TIMEZONE:Europe/Berlin
BEGIN:VEVENT
UID:162@k50p.de
DTSTART;TZID=Europe/Berlin:20180627T180000
DTEND;TZID=Europe/Berlin:20180701T220000
DTSTAMP:20180628T144156Z
URL:https://k50p.de/events/nordstadt-strand
SUMMARY:Nordstadt-Strand
DESCRIPTION:Täglich von 18:00 bis 22:00 Uhr\,\n\nMittwoch ab 16:00 Uhr\, S
 onntag ab 14:00 Uhr
LOCATION:Wiese an  der Martin-Luther-Kirche\, Martin-Luther-Str.\, Hildeshe
 im\, Deutschland
X-APPLE-STRUCTURED-LOCATION;VALUE=URI;X-ADDRESS=Martin-Luther-Str.\, Hildes
 heim\, Deutschland;X-APPLE-RADIUS=100;X-TITLE=Wiese an  der Martin-Luther-
 Kirche:geo:0,0
END:VEVENT
BEGIN:VTIMEZONE
TZID:Europe/Berlin
X-LIC-LOCATION:Europe/Berlin
BEGIN:DAYLIGHT
DTSTART:20180325T030000
TZOFFSETFROM:+0100
TZOFFSETTO:+0200
TZNAME:CEST
END:DAYLIGHT
END:VTIMEZONE
END:VCALENDAR