BEGIN:VCALENDAR
VERSION:2.0
PRODID:-//wp-events-plugin.com//7.2.3.1//EN
TZID:Europe/Berlin
X-WR-TIMEZONE:Europe/Berlin
BEGIN:VEVENT
UID:296@k50p.de
DTSTART;TZID=Europe/Berlin:20180928T140000
DTEND;TZID=Europe/Berlin:20181014T010000
DTSTAMP:20180930T092114Z
URL:https://k50p.de/events/oktoberfest-hannover
SUMMARY:Oktoberfest Hannover
DESCRIPTION:Auf dem hannoverschen Schützenplatz wird vom 28. September bis
  zum 14. Oktober das Oktoberfest gefeiert. Die Besucher können sich auf N
 orddeutschlands größtem Oktoberfest auf jede Menge bajuwarische Festtra
 dition mit Trachtentanz und -kapelle freuen.\nAuf dem Festplatz befinden 
 sich zwei große Festhallen und fünf kleinere Festzelte. Der Eintritt ist
  in alle Zelte frei.  Jeden Freitag gegen 21:45 Uhr gibt es ein Großfeue
 rwerk.\nÖffnungszeiten:     (alle Angaben ohne Gewähr)\nMo. – Do. 
 täglich von 14 bis 23 Uhr (Zelte bis max. 1 Uhr)\nFr.\, Sa.\, So. und vor
  Feiertagen täglich von 14 bis 24 Uhr (Zelte bis max. 1 Uhr)\n\n\n[captio
 n id="attachment_1684" align="aligncenter" width="1024"] motointermedia / 
 Pixabay[/caption]
CATEGORIES:Alle Termine &amp; Tipps
LOCATION:Schützenplatz Hannover\, Bruchmeisterallee 1a\, Hannover\, 30169\
 , Deutschland
X-APPLE-STRUCTURED-LOCATION;VALUE=URI;X-ADDRESS=Bruchmeisterallee 1a\, Hann
 over\, 30169\, Deutschland;X-APPLE-RADIUS=100;X-TITLE=Schützenplatz Hanno
 ver:geo:0,0
END:VEVENT
BEGIN:VTIMEZONE
TZID:Europe/Berlin
X-LIC-LOCATION:Europe/Berlin
BEGIN:DAYLIGHT
DTSTART:20180325T030000
TZOFFSETFROM:+0100
TZOFFSETTO:+0200
TZNAME:CEST
END:DAYLIGHT
END:VTIMEZONE
END:VCALENDAR