BEGIN:VCALENDAR
VERSION:2.0
PRODID:-//wp-events-plugin.com//7.2.3.1//EN
TZID:Europe/Berlin
X-WR-TIMEZONE:Europe/Berlin
BEGIN:VEVENT
UID:167@k50p.de
DTSTART;TZID=Europe/Berlin;VALUE=DATE:20180907
DTEND;TZID=Europe/Berlin;VALUE=DATE:20180909
DTSTAMP:20180809T172337Z
URL:https://k50p.de/events/pflasterzauber
SUMMARY:Pflasterzauber
DESCRIPTION:"Pflasterzauber“ - Festival der Straßenkunst in Hildesheim\n
 \nDie Fußgängerzone wird am 7.und 8.September zur großen Freilichtbüh
 ne für Gaukler\, Musiker\, Zauberer und Akrobaten. Gemäß dem Motto "Wen
 n es gefällt\, wirf in den Hut Dein Geld!“ dienen freiwillige Spenden
  als Gage für die Künstler.\n\nAußerdem Late-Night-Shopping in der Inne
 nstadt bis 22 Uhr.\n\n[caption id="attachment_1335" align="aligncenter" wi
 dth="1024"] tee_zett / Pixabay[/caption]
CATEGORIES:Alle Termine &amp; Tipps
LOCATION:Fußgängerzone\, Innenstadt\, Hildesheim\, Deutschland
X-APPLE-STRUCTURED-LOCATION;VALUE=URI;X-ADDRESS=Innenstadt\, Hildesheim\, D
 eutschland;X-APPLE-RADIUS=100;X-TITLE=Fußgängerzone:geo:0,0
END:VEVENT
BEGIN:VTIMEZONE
TZID:Europe/Berlin
X-LIC-LOCATION:Europe/Berlin
BEGIN:DAYLIGHT
DTSTART:20180325T030000
TZOFFSETFROM:+0100
TZOFFSETTO:+0200
TZNAME:CEST
END:DAYLIGHT
END:VTIMEZONE
END:VCALENDAR