BEGIN:VCALENDAR
VERSION:2.0
PRODID:-//wp-events-plugin.com//7.2.3.1//EN
TZID:Europe/Berlin
X-WR-TIMEZONE:Europe/Berlin
BEGIN:VEVENT
UID:23@k50p.de
DTSTART;TZID=Europe/Berlin:20200403T100000
DTEND;TZID=Europe/Berlin:20200403T120000
DTSTAMP:20200321T152743Z
URL:https://k50p.de/events/redaktionsfruehstueck-2020-04-03
SUMMARY:Redaktionsfrühstück K50p
DESCRIPTION:Hinweis:  \n\nDas Redaktionsfrühstück\, alle K50p Termine u
 nd der monatliche Stammtisch fallen vorübergehend wegen der Corona-Krise 
 aus. \n\n\n\nOffener Redaktionstreff an jedem 1. Freitag im Monat im Café
  Engelke\, Hannoversche Straße 92 (Messeschnellweg) in 31180 Hasede. Park
 plätze direkt am Haus.\nDie vorherige Terminabsprache zwecks Reservierung
  ist unbedingt erforderlich. Termine bitte rechtzeitig  im K50p-Chat oder
  per email mit Redaktion@K50p absprechen.\nP.S. Einfacher geht es beim
  Stammtisch\nFoto: Jürgen Warps\n\n&nbsp\;\n\n&nbsp\;\n\n&nbsp\;
LOCATION:Café Engelke\, Hannoversche Straße 92\, Giesen/Hasede\, 31180\, 
 Deutschland
X-APPLE-STRUCTURED-LOCATION;VALUE=URI;X-ADDRESS=Hannoversche Straße 92\, G
 iesen/Hasede\, 31180\, Deutschland;X-APPLE-RADIUS=100;X-TITLE=Café Engelk
 e:geo:0,0
END:VEVENT
BEGIN:VTIMEZONE
TZID:Europe/Berlin
X-LIC-LOCATION:Europe/Berlin
BEGIN:DAYLIGHT
DTSTART:20200329T030000
TZOFFSETFROM:+0100
TZOFFSETTO:+0200
TZNAME:CEST
END:DAYLIGHT
END:VTIMEZONE
END:VCALENDAR