BEGIN:VCALENDAR
VERSION:2.0
PRODID:-//wp-events-plugin.com//7.2.3.1//EN
TZID:Europe/Berlin
X-WR-TIMEZONE:Europe/Berlin
BEGIN:VEVENT
UID:361@k50p.de
DTSTART;TZID=Europe/Berlin:20190307T160000
DTEND;TZID=Europe/Berlin:20190307T180000
DTSTAMP:20190226T204703Z
URL:https://k50p.de/events/schnuppertreff-im-mirai
SUMMARY:Schnuppertreff im MIRAI
DESCRIPTION:Stammtisch im MIRAI-Restaurant-Lounge-Cafe in Hildesheim\, an 
 der Steingrube 19a \n\nNächster Stammtischtermin: Donnerstag von 16 bis
  18 Uhr.\n\nDamit wir uns alle mal kennenlernen. Der neue Treffpunkt für 
 alle Ost- und Innenstädter. Einfach mal beim Stammtisch vorbeikommen und 
 mitmachen.\n\nK50p - Kultur 50 plus. Wenn Du jünger bist\, als es in Dein
 em Ausweis steht.\n\nK50p ist eine ehrenamtliche\, regionale Freizeitinit
 iative in Hildesheim ohne jedes finanzielle Interesse. K50p ist unabhäng
 ig von Parteien und Organisatoren.\nGute Nachbarschaft gibt es nicht umson
 st\, aber wir arbeiten daran.\n\n\nInfo auch über:\n\nWatsApp-Messenger T
 el.: +49 16066 48139\n\nThreema-Messenger ID: 6D5DAR9M\n\noder Telefon: 05
 121 52700 (AB)
LOCATION:Restaurant-Lounge-Cafe "MIRAI"\, Gemeinschaftshaus\, Steingrube 19
 a\, Hildesheim\, 31141\, Deutschland
X-APPLE-STRUCTURED-LOCATION;VALUE=URI;X-ADDRESS=Gemeinschaftshaus\, Steingr
 ube 19a\, Hildesheim\, 31141\, Deutschland;X-APPLE-RADIUS=100;X-TITLE=Rest
 aurant-Lounge-Cafe \"MIRAI\":geo:0,0
END:VEVENT
BEGIN:VTIMEZONE
TZID:Europe/Berlin
X-LIC-LOCATION:Europe/Berlin
BEGIN:STANDARD
DTSTART:20181028T020000
TZOFFSETFROM:+0200
TZOFFSETTO:+0100
TZNAME:CET
END:STANDARD
END:VTIMEZONE
END:VCALENDAR