BEGIN:VCALENDAR
VERSION:2.0
PRODID:-//wp-events-plugin.com//7.2.3.1//EN
TZID:Europe/Berlin
X-WR-TIMEZONE:Europe/Berlin
BEGIN:VEVENT
UID:163@k50p.de
DTSTART;TZID=Europe/Berlin;VALUE=DATE:20180629
DTEND;TZID=Europe/Berlin;VALUE=DATE:20180709
DTSTAMP:20180703T212032Z
URL:https://k50p.de/events/schuetzenfest-hannover
SUMMARY:Schützenfest Hannover
DESCRIPTION:Auf dem Schützenplatz in Hannover\n\n&nbsp\;
CATEGORIES:Alle Termine &amp; Tipps
END:VEVENT
BEGIN:VTIMEZONE
TZID:Europe/Berlin
X-LIC-LOCATION:Europe/Berlin
BEGIN:DAYLIGHT
DTSTART:20180325T030000
TZOFFSETFROM:+0100
TZOFFSETTO:+0200
TZNAME:CEST
END:DAYLIGHT
END:VTIMEZONE
END:VCALENDAR