BEGIN:VCALENDAR
VERSION:2.0
PRODID:-//wp-events-plugin.com//7.2.3.1//EN
TZID:Europe/Berlin
X-WR-TIMEZONE:Europe/Berlin
BEGIN:VEVENT
UID:701@k50p.de
DTSTART;TZID=Europe/Berlin:20250105T090000
DTEND;TZID=Europe/Berlin:20250105T110000
DTSTAMP:20250103T115943Z
URL:https://k50p.de/events/spaziergang-mit-fachkundiger-fuehrung-durch-den
 -ovh
SUMMARY:Spaziergang mit fachkundiger Führung durch den OVH
DESCRIPTION:Ein morgendlicher Spaziergang kann eine wunderbare Möglichkeit
  sein\, die Natur zu beobachten. Die ruhige Atmosphäre und vielfältige P
 flanzenwelt bieten einen idealen Rahmen\, um die ersten Anzeichen des neue
 n Jahres und den Lebensraum vielen Vogelarten inmitten der Stadt neu zu en
 tdecken. 
ATTACH;FMTTYPE=image/jpeg:https://k50p.de/wp-content/uploads/2019/03/Wande
 rung-www.jpg
CATEGORIES:Hi-Senior-aktiv,Termine &amp; Info K50p / Hi-Senior-aktiv
END:VEVENT
BEGIN:VTIMEZONE
TZID:Europe/Berlin
X-LIC-LOCATION:Europe/Berlin
BEGIN:STANDARD
DTSTART:20241027T020000
TZOFFSETFROM:+0200
TZOFFSETTO:+0100
TZNAME:CET
END:STANDARD
END:VTIMEZONE
END:VCALENDAR