BEGIN:VCALENDAR
VERSION:2.0
PRODID:-//wp-events-plugin.com//7.2.3.1//EN
TZID:Europe/Berlin
X-WR-TIMEZONE:Europe/Berlin
BEGIN:VEVENT
UID:346@k50p.de
DTSTART;TZID=Europe/Berlin:20190303T150000
DTEND;TZID=Europe/Berlin:20190303T180000
DTSTAMP:20190402T083837Z
URL:https://k50p.de/events/tanzcafe-am-sonntag-im-mirai-2019-03-03
SUMMARY:Tanzcafe am Sonntag
DESCRIPTION:TANZCAFE im MIRAI-Restaurant-Lounge-Cafe jeden 1. Sonntag im Mo
 nat von 15 bis 18 Uhr.\n\nWir haben vorab getestet: Tolle Musik\, freundli
 che Bedienung\, hochwertige Technik und ein DJ mit dem  nötigen Feingef
 ühl für "unsere Musik". Angenehme Wohlfühl Atmosphäre\, Kuchenauswahl 
 vom Buffet und gepflegte  Gastronomie. Die Location ist am Sonntag bis 21
  Uhr geöffnet. Tanz von 15 bis 18 Uhr. Eintritt frei. Die Veranstaltung i
 st immer sehr  gut besucht. Anmeldung für unseren Tisch bitte rechtzeiti
 g beim Stammtisch\, WhatsApp\, Threema\, FA Website oder Telefon:\n\nWatsA
 pp-Messenger Tel.: +49 16066 48139\n\nThreema-Messenger ID: 6D5DAR9M\n\nod
 er Telefon: 05121 52700 (AB)\n\nBei rechtzeitiger Anmeldung organisieren w
 ir dann gern eine Reservierung an unserem Tisch.\n\n\n\n&nbsp\;\n\n&nbsp\;
LOCATION:Restaurant-Lounge-Cafe "MIRAI"\, Gemeinschaftshaus\, Steingrube 19
 a\, Hildesheim\, 31141\, Deutschland
X-APPLE-STRUCTURED-LOCATION;VALUE=URI;X-ADDRESS=Gemeinschaftshaus\, Steingr
 ube 19a\, Hildesheim\, 31141\, Deutschland;X-APPLE-RADIUS=100;X-TITLE=Rest
 aurant-Lounge-Cafe \"MIRAI\":geo:0,0
END:VEVENT
BEGIN:VTIMEZONE
TZID:Europe/Berlin
X-LIC-LOCATION:Europe/Berlin
BEGIN:STANDARD
DTSTART:20181028T020000
TZOFFSETFROM:+0200
TZOFFSETTO:+0100
TZNAME:CET
END:STANDARD
END:VTIMEZONE
END:VCALENDAR