BEGIN:VCALENDAR
VERSION:2.0
PRODID:-//wp-events-plugin.com//7.2.3.1//EN
TZID:Europe/Berlin
X-WR-TIMEZONE:Europe/Berlin
BEGIN:VEVENT
UID:294@k50p.de
DTSTART;TZID=Europe/Berlin:20181208T193000
DTEND;TZID=Europe/Berlin:20181208T220000
DTSTAMP:20180930T092856Z
URL:https://k50p.de/events/theater-nebenan-frau-holle
SUMMARY:Theater nebenan - Frau Holle
DESCRIPTION:Besuch des Weihnachtsmärchens "Frau Holle" im Theater nebenan:
 \nSamstag 08.12.2018 um 19:30 Uhr in einer Version für Erwachsene.\nKarte
 n nur im Vorverkauf beim Stammtisch.\nMartina hat 15 Eintrittskarten erhal
 ten. Die Vorstellung für Erwachsene ist leider ausverkauft. Restkarten ev
 tl. beim Stammtisch über Martina möglich.\n
LOCATION:Theater nebenan\, Liebigstr. 32\, Ahrbergen\, Deutschland
X-APPLE-STRUCTURED-LOCATION;VALUE=URI;X-ADDRESS=Liebigstr. 32\, Ahrbergen\,
  Deutschland;X-APPLE-RADIUS=100;X-TITLE=Theater nebenan:geo:0,0
END:VEVENT
BEGIN:VTIMEZONE
TZID:Europe/Berlin
X-LIC-LOCATION:Europe/Berlin
BEGIN:STANDARD
DTSTART:20181028T020000
TZOFFSETFROM:+0200
TZOFFSETTO:+0100
TZNAME:CET
END:STANDARD
END:VTIMEZONE
END:VCALENDAR