BEGIN:VCALENDAR
VERSION:2.0
PRODID:-//wp-events-plugin.com//7.2.3.1//EN
TZID:Europe/Berlin
X-WR-TIMEZONE:Europe/Berlin
BEGIN:VEVENT
UID:290@k50p.de
DTSTART;TZID=Europe/Berlin:20180818T160000
DTEND;TZID=Europe/Berlin:20180916T220000
DTSTAMP:20180825T135858Z
URL:https://k50p.de/events/theatergarten-wieder-geoeffnet
SUMMARY:Theatergarten wieder geöffnet
DESCRIPTION:In Hildesheim findet zum 6. Mal der THEATERGARTEN auf dem Vorp
 latz des TfN statt. Eine gelungene Mischung aus Biergarten\, Kultur und Ei
 nblicken in das Theaterleben erwartet Dich. Erlebe erste Eindrücke von be
 vorstehenden Premieren\, Lesungen und musikalischen Kostproben. Freu Dich 
 auf Workshops\, Liederabende und das offene Singen. Mach mit beim Tanz auf
  dem Vorplatz\, dem Theatergarten-Reisequiz oder wirf einen Blick hinter d
 ie Kulissen bei der Theaterführung. Fast alle Veranstaltungen sind kosten
 los. Viele Termine müssen bei Regen nicht ausfallen\, sondern werden ins 
 Theater verlegt. Am besten kurzfristig per Messenger verabreden und gemein
 sam hingehen. Man trifft sich!\nDie meisten Veranstaltungen beginnen um 18
 :30 Uhr. Die Gastronomie auf dem Theatervorplatz ist täglich von 16:00 bi
 s 22:00 Uhr geöffnet. Warte nicht zu lange\; denn am Sonntag\, 16. Septe
 mber 2018 ist das "Open Air Vergnügen" leider schon wieder vorbei.\nBitte
  hier oder auf das Bild zum Link auf die Theater-Homepage klicken. Es ö
 ffnet sich der Veranstaltungsplan in einem neuen zusätzlichen Fenster.
CATEGORIES:Alle Termine &amp; Tipps
LOCATION:TfN - Theater  für Niedersachsen\, Theaterstraße 6\, Hildesheim\
 , 31141\, Deutschland
X-APPLE-STRUCTURED-LOCATION;VALUE=URI;X-ADDRESS=Theaterstraße 6\, Hildeshe
 im\, 31141\, Deutschland;X-APPLE-RADIUS=100;X-TITLE=TfN - Theater  für Ni
 edersachsen:geo:0,0
END:VEVENT
BEGIN:VTIMEZONE
TZID:Europe/Berlin
X-LIC-LOCATION:Europe/Berlin
BEGIN:DAYLIGHT
DTSTART:20180325T030000
TZOFFSETFROM:+0100
TZOFFSETTO:+0200
TZNAME:CEST
END:DAYLIGHT
END:VTIMEZONE
END:VCALENDAR