BEGIN:VCALENDAR
VERSION:2.0
PRODID:-//wp-events-plugin.com//7.2.3.1//EN
TZID:Europe/Berlin
X-WR-TIMEZONE:Europe/Berlin
BEGIN:VEVENT
UID:715@k50p.de
DTSTART;TZID=Europe/Berlin;VALUE=DATE:20250528
DTEND;TZID=Europe/Berlin;VALUE=DATE:20250602
DTSTAMP:20250501T195933Z
URL:https://k50p.de/events/weinfest-vom-28-mai-bis-01-juni
SUMMARY:Weinfest vom 28. Mai bis 01. Juni
DESCRIPTION:Beim Hildesheimer Weinfest kommen die Liebhaber des edlen Reben
 saftes voll auf ihre Kosten. Winzer aus ganz Deutschland bieten ihre edlen
  Weine im historischen Ambiente des schönen Marktplatzes an. So mancher W
 einkenner kommt bei Musik und einem interessanten Kulturprogramm ins Schw
 ärmen.
ATTACH;FMTTYPE=image/jpeg:https://k50p.de/wp-content/uploads/2025/04/Weinf
 est.jpg
CATEGORIES:K50p-aktiv
END:VEVENT
BEGIN:VTIMEZONE
TZID:Europe/Berlin
X-LIC-LOCATION:Europe/Berlin
BEGIN:DAYLIGHT
DTSTART:20250330T030000
TZOFFSETFROM:+0100
TZOFFSETTO:+0200
TZNAME:CEST
END:DAYLIGHT
END:VTIMEZONE
END:VCALENDAR