BEGIN:VCALENDAR
VERSION:2.0
PRODID:-//wp-events-plugin.com//7.2.3.1//EN
TZID:Europe/Berlin
X-WR-TIMEZONE:Europe/Berlin
BEGIN:VEVENT
UID:746@k50p.de
DTSTART;TZID=Europe/Berlin:20260606T170000
DTEND;TZID=Europe/Berlin:20260606T200000
DTSTAMP:20260425T165711Z
URL:https://k50p.de/events/white-dinner-picknick-mit-sommernachtskonzert
SUMMARY:White-Dinner-Picknick mit Sommernachtskonzert
DESCRIPTION:Einladung zum White-Dinner-Picknick mit Sommernachtskonzert im 
 Hildesheimer Theatergarten am 6. Juni\, ab 17:00 Uhr. Ein strahlender Aben
 d im Theatergarten. Eintritt frei.\n\nDresscode: Weiß ist Pflicht\, Humor
  optional aber empfohlen. Egal ob elegant oder lässig – Hauptsache in W
 eiß gekleidet. Wenn ihr denkt\, ihr seht gut aus\, kommt noch besser dahe
 r – gemeinsam glänzen wir heller als der Kronleuchter.\n\nBegeisterung 
 kostet nichts\, aber gönnt euch gern gute Laune und eine Portion Humor. W
 ir freuen uns auf eine Abendstunde voller Licht\, Musik und weißer Wunder
 . Bis bald im Theatergarten – wo Weiß nicht nur eine Farbe\, sondern ei
 ne Lebenseinstellung ist.\n\nBeginn: 17:00 Uhr. Ab 19:00 sorgt die Theater
 -Philharmonie für passende Klangfarben. Eintritt frei. Open end.\nPicknic
 k-Körbe nicht vergessen!
ATTACH;FMTTYPE=image/jpeg:https://k50p.de/wp-content/uploads/2026/04/Theat
 er_Dinner-in-Weiss.jpg
CATEGORIES:Veranstaltungen - Termine - Tipps
END:VEVENT
BEGIN:VTIMEZONE
TZID:Europe/Berlin
X-LIC-LOCATION:Europe/Berlin
BEGIN:DAYLIGHT
DTSTART:20260329T030000
TZOFFSETFROM:+0100
TZOFFSETTO:+0200
TZNAME:CEST
END:DAYLIGHT
END:VTIMEZONE
END:VCALENDAR