BEGIN:VCALENDAR
VERSION:2.0
PRODID:-//wp-events-plugin.com//7.2.3.1//EN
TZID:Europe/Berlin
X-WR-TIMEZONE:Europe/Berlin
BEGIN:VEVENT
UID:400@k50p.de
DTSTART;TZID=Europe/Berlin:20240514T150000
DTEND;TZID=Europe/Berlin:20240514T163000
DTSTAMP:20240505T111138Z
URL:https://k50p.de/events/wie-schuetze-ich-meine-persoenlichen-daten
SUMMARY:Wie schütze ich meine persönlichen Daten?
DESCRIPTION:kompetent und sicher im Netz\n\nWorkshop für Menschen 55+
CATEGORIES:Hi-Senior-digital
LOCATION:"Haus der Beteiligung"\, Almsstr. 24\, Hildesheim\, 31134\, Deutsc
 hland
X-APPLE-STRUCTURED-LOCATION;VALUE=URI;X-ADDRESS=Almsstr. 24\, Hildesheim\, 
 31134\, Deutschland;X-APPLE-RADIUS=100;X-TITLE=\"Haus der Beteiligung\":ge
 o:0,0
END:VEVENT
BEGIN:VTIMEZONE
TZID:Europe/Berlin
X-LIC-LOCATION:Europe/Berlin
BEGIN:DAYLIGHT
DTSTART:20240331T030000
TZOFFSETFROM:+0100
TZOFFSETTO:+0200
TZNAME:CEST
END:DAYLIGHT
END:VTIMEZONE
END:VCALENDAR