BEGIN:VCALENDAR
VERSION:2.0
PRODID:-//wp-events-plugin.com//7.2.3.1//EN
TZID:Europe/Berlin
X-WR-TIMEZONE:Europe/Berlin
BEGIN:VEVENT
UID:714@k50p.de
DTSTART;TZID=Europe/Berlin;VALUE=DATE:20250301
DTEND;TZID=Europe/Berlin;VALUE=DATE:20250302
DTSTAMP:20250201T174900Z
URL:https://k50p.de/events/willkommen-fruehling-2025-03-01
SUMMARY:Willkommen Frühling
DESCRIPTION:Der meteorologische Frühling beginnt am 01. März und dauert b
 is zum 31. Mai
ATTACH;FMTTYPE=image/jpeg:https://k50p.de/wp-content/uploads/2025/02/Frueh
 ling.jpg
CATEGORIES:Veranstaltungen - Termine - Tipps
END:VEVENT
BEGIN:VTIMEZONE
TZID:Europe/Berlin
X-LIC-LOCATION:Europe/Berlin
BEGIN:STANDARD
DTSTART:20241027T020000
TZOFFSETFROM:+0200
TZOFFSETTO:+0100
TZNAME:CET
END:STANDARD
END:VTIMEZONE
END:VCALENDAR